BEGIN:VCALENDAR
VERSION:2.0
METHOD:PUBLISH
PRODID:-//Accessible Web Design//My Calendar//http://www.joedolson.com//v//EN';
BEGIN:VEVENT
UID:66-61
LOCATION:
SUMMARY:第13回ジャパンデフマスターズバレーボールカップ
DTSTAMP:20250927
ORGANIZER;CN=JDVA-jimu:MAILTO:takata@jdva.org
DTSTART:20250927
DTEND:20250928
CATEGORIES:マスターズカップ
URL;VALUE=URI:https://www.main.jdva.org/mc-events/第13回ジャパンデフマスターズバレーボールカップ/?mc_id=66
DESCRIPTION;ENCODING=QUOTED-PRINTABLE:犬山市
X-FUNAMBOL-ALLDAY: 1
X-MICROSOFT-CDO-ALLDAYEVENT: TRUE

END:VEVENT
END:VCALENDAR