BEGIN:VCALENDAR
VERSION:2.0
METHOD:PUBLISH
PRODID:-//Accessible Web Design//My Calendar//http://www.joedolson.com//v//EN';
BEGIN:VEVENT
UID:24-21
LOCATION:
SUMMARY:日本代表（男子）強化合宿
DTSTAMP:20240518
ORGANIZER;CN=JDVA-jimu:MAILTO:takata@jdva.org
DTSTART:20240518
DTEND:20240520
CATEGORIES:男子日本代表
URL;VALUE=URI:https://www.main.jdva.org/mc-events/日本代表（男子）強化合宿-7/?mc_id=24
DESCRIPTION;ENCODING=QUOTED-PRINTABLE:東京都内
X-FUNAMBOL-ALLDAY: 1
X-MICROSOFT-CDO-ALLDAYEVENT: TRUE

END:VEVENT
END:VCALENDAR