BEGIN:VCALENDAR
VERSION:2.0
METHOD:PUBLISH
PRODID:-//Accessible Web Design//My Calendar//http://www.joedolson.com//v//EN';
BEGIN:VEVENT
UID:60-56
LOCATION:
SUMMARY:日本代表（女子）強化合宿（予定）
DTSTAMP:20250913
ORGANIZER;CN=JDVA-jimu:MAILTO:takata@jdva.org
DTSTART:20250913
DTEND:20250916
CATEGORIES:女子日本代表
URL;VALUE=URI:https://www.main.jdva.org/mc-events/日本代表（女子）強化合宿（予定）-2/?mc_id=60
DESCRIPTION;ENCODING=QUOTED-PRINTABLE:東京都内予定
X-FUNAMBOL-ALLDAY: 1
X-MICROSOFT-CDO-ALLDAYEVENT: TRUE

END:VEVENT
END:VCALENDAR