BEGIN:VCALENDAR
VERSION:2.0
METHOD:PUBLISH
PRODID:-//Accessible Web Design//My Calendar//http://www.joedolson.com//v//EN';
BEGIN:VEVENT
UID:59-55
LOCATION:
SUMMARY:日本代表（女子）強化合宿
DTSTAMP:20250816
ORGANIZER;CN=JDVA-jimu:MAILTO:takata@jdva.org
DTSTART:20250816
DTEND:20250818
CATEGORIES:女子日本代表
URL;VALUE=URI:https://www.main.jdva.org/mc-events/日本代表（女子）強化合宿-22/?mc_id=59
DESCRIPTION;ENCODING=QUOTED-PRINTABLE:東京都内
X-FUNAMBOL-ALLDAY: 1
X-MICROSOFT-CDO-ALLDAYEVENT: TRUE

END:VEVENT
END:VCALENDAR