BEGIN:VCALENDAR
VERSION:2.0
METHOD:PUBLISH
PRODID:-//Accessible Web Design//My Calendar//http://www.joedolson.com//v//EN';
BEGIN:VEVENT
UID:57-53
LOCATION:
SUMMARY:日本代表（男子）強化合宿（予定）
DTSTAMP:20250927
ORGANIZER;CN=JDVA-jimu:MAILTO:takata@jdva.org
DTSTART:20250927
DTEND:20250929
CATEGORIES:男子日本代表
URL;VALUE=URI:https://www.main.jdva.org/mc-events/日本代表（男子）強化合宿（予定）-2/?mc_id=57
DESCRIPTION;ENCODING=QUOTED-PRINTABLE:愛知県内
X-FUNAMBOL-ALLDAY: 1
X-MICROSOFT-CDO-ALLDAYEVENT: TRUE

END:VEVENT
END:VCALENDAR