BEGIN:VCALENDAR
VERSION:2.0
METHOD:PUBLISH
PRODID:-//Accessible Web Design//My Calendar//http://www.joedolson.com//v//EN';
BEGIN:VEVENT
UID:46-42
LOCATION:
SUMMARY:日本代表（男子）強化合宿
DTSTAMP:20250426
ORGANIZER;CN=JDVA-jimu:MAILTO:takata@jdva.org
DTSTART:20250426
DTEND:20250428
CATEGORIES:男子日本代表
URL;VALUE=URI:https://www.main.jdva.org/mc-events/日本代表（男子）強化合宿-15/?mc_id=46
DESCRIPTION;ENCODING=QUOTED-PRINTABLE:千葉県内
X-FUNAMBOL-ALLDAY: 1
X-MICROSOFT-CDO-ALLDAYEVENT: TRUE

END:VEVENT
END:VCALENDAR