BEGIN:VCALENDAR
VERSION:2.0
METHOD:PUBLISH
PRODID:-//Accessible Web Design//My Calendar//http://www.joedolson.com//v//EN';
BEGIN:VEVENT
UID:41-37
LOCATION:
SUMMARY:第26回ジャパンデフバレーボールカップ
DTSTAMP:20250207
ORGANIZER;CN=JDVA-jimu:MAILTO:takata@jdva.org
DTSTART:20250207
DTEND:20250210
CATEGORIES:デフカップ
URL;VALUE=URI:https://www.main.jdva.org/mc-events/第26回ジャパンデフバレーボールカップ/?mc_id=41
DESCRIPTION;ENCODING=QUOTED-PRINTABLE:神奈川県川崎市
X-FUNAMBOL-ALLDAY: 1
X-MICROSOFT-CDO-ALLDAYEVENT: TRUE

END:VEVENT
END:VCALENDAR