BEGIN:VCALENDAR
VERSION:2.0
METHOD:PUBLISH
PRODID:-//Accessible Web Design//My Calendar//http://www.joedolson.com//v//EN';
BEGIN:VEVENT
UID:36-33
LOCATION:
SUMMARY:日本代表（女子）強化合宿
DTSTAMP:20241214
ORGANIZER;CN=JDVA-jimu:MAILTO:takata@jdva.org
DTSTART:20241214
DTEND:20241216
CATEGORIES:女子日本代表
URL;VALUE=URI:https://www.main.jdva.org/mc-events/日本代表（女子）強化合宿-13/?mc_id=36
DESCRIPTION;ENCODING=QUOTED-PRINTABLE:東京都府中市
X-FUNAMBOL-ALLDAY: 1
X-MICROSOFT-CDO-ALLDAYEVENT: TRUE

END:VEVENT
END:VCALENDAR