BEGIN:VCALENDAR
VERSION:2.0
METHOD:PUBLISH
PRODID:-//Accessible Web Design//My Calendar//http://www.joedolson.com//v//EN';
BEGIN:VEVENT
UID:31-28
LOCATION:
SUMMARY:日本代表（女子）強化合宿
DTSTAMP:20240928
ORGANIZER;CN=JDVA-jimu:MAILTO:takata@jdva.org
DTSTART:20240928
DTEND:20240930
CATEGORIES:女子日本代表
URL;VALUE=URI:https://www.main.jdva.org/mc-events/日本代表（女子）強化合宿-11/?mc_id=31
DESCRIPTION;ENCODING=QUOTED-PRINTABLE:東京都内
X-FUNAMBOL-ALLDAY: 1
X-MICROSOFT-CDO-ALLDAYEVENT: TRUE

END:VEVENT
END:VCALENDAR