BEGIN:VCALENDAR
VERSION:2.0
METHOD:PUBLISH
PRODID:-//Accessible Web Design//My Calendar//http://www.joedolson.com//v//EN';
BEGIN:VEVENT
UID:19-16
LOCATION:
SUMMARY:日本代表（女子）強化合宿
DTSTAMP:20240210
ORGANIZER;CN=JDVA-jimu:MAILTO:takata@jdva.org
DTSTART:20240210
DTEND:20240212
CATEGORIES:女子日本代表
URL;VALUE=URI:https://www.main.jdva.org/mc-events/日本代表（女子）強化合宿-4/?mc_id=19
DESCRIPTION;ENCODING=QUOTED-PRINTABLE:ニチイ神戸ポートアイランドセンター（体育館）
X-FUNAMBOL-ALLDAY: 1
X-MICROSOFT-CDO-ALLDAYEVENT: TRUE

END:VEVENT
END:VCALENDAR