BEGIN:VCALENDAR
VERSION:2.0
METHOD:PUBLISH
PRODID:-//Accessible Web Design//My Calendar//http://www.joedolson.com//v//EN';
BEGIN:VEVENT
UID:17-14
LOCATION:
SUMMARY:日本代表（女子）強化合宿
DTSTAMP:20240120
ORGANIZER;CN=JDVA-jimu:MAILTO:takata@jdva.org
DTSTART:20240120
DTEND:20240122
CATEGORIES:女子日本代表
URL;VALUE=URI:https://www.main.jdva.org/mc-events/日本代表（女子）強化合宿-3/?mc_id=17
DESCRIPTION;ENCODING=QUOTED-PRINTABLE:場所 1月20日：沖縄県糸満市 1月21日：沖縄県豊見城市
X-FUNAMBOL-ALLDAY: 1
X-MICROSOFT-CDO-ALLDAYEVENT: TRUE

END:VEVENT
END:VCALENDAR